Package: ASGSCA Version: 1.45.0 Command: /home/biocbuild/bbs-3.23-bioc/R/bin/R CMD build --keep-empty-dirs --no-resave-data ASGSCA StartedAt: 2025-11-13 16:14:10 -0500 (Thu, 13 Nov 2025) EndedAt: 2025-11-13 16:16:44 -0500 (Thu, 13 Nov 2025) EllapsedTime: 153.1 seconds RetCode: 0 Status: OK PackageFile: ASGSCA_1.45.0.tar.gz PackageFileSize: 1.293 MiB