Package: ASGSCA Version: 1.45.0 Command: /Library/Frameworks/R.framework/Resources/bin/R CMD INSTALL ASGSCA StartedAt: 2025-11-13 15:03:01 -0500 (Thu, 13 Nov 2025) EndedAt: 2025-11-13 15:03:05 -0500 (Thu, 13 Nov 2025) EllapsedTime: 3.2 seconds RetCode: 0 Status: OK