Package: ASGSCA Version: 1.45.0 Command: /Library/Frameworks/R.framework/Resources/bin/R CMD build --keep-empty-dirs --no-resave-data ASGSCA StartedAt: 2025-11-13 15:42:05 -0500 (Thu, 13 Nov 2025) EndedAt: 2025-11-13 15:43:02 -0500 (Thu, 13 Nov 2025) EllapsedTime: 56.6 seconds RetCode: 0 Status: OK PackageFile: ASGSCA_1.45.0.tar.gz PackageFileSize: 1.293 MiB