Package: ASGSCA Version: 1.45.0 Command: rm -rf ASGSCA.buildbin-libdir && mkdir ASGSCA.buildbin-libdir && /Users/biocbuild/BBS/utils/build-universal.sh ASGSCA_1.45.0.tar.gz /Library/Frameworks/R.framework/Resources/bin/R ASGSCA.buildbin-libdir StartedAt: 2025-11-13 23:27:51 -0500 (Thu, 13 Nov 2025) EndedAt: 2025-11-13 23:27:54 -0500 (Thu, 13 Nov 2025) EllapsedTime: 3.1 seconds RetCode: 0 Status: OK PackageFile: ASGSCA_1.45.0.tgz PackageFileSize: 877.3 KiB