Package: ASGSCA Version: 1.45.0 Maintainer: Hela Romdhani MaintainerEmail: hela.romdhani at mcgill.ca git_url: https://git.bioconductor.org/packages/ASGSCA git_branch: devel git_last_commit: d74fe27 git_last_commit_date: 2025-10-29 10:22:03 -0500 (Wed, 29 Oct 2025)