Package: ASEB Version: 1.55.0 Command: /home/biocbuild/bbs-3.23-bioc/R/bin/R CMD INSTALL ASEB StartedAt: 2025-11-14 15:03:14 -0500 (Fri, 14 Nov 2025) EndedAt: 2025-11-14 15:03:26 -0500 (Fri, 14 Nov 2025) EllapsedTime: 12.5 seconds RetCode: 0 Status: OK