Package: ASEB Version: 1.55.0 Command: /home/biocbuild/bbs-3.23-bioc/R/bin/R CMD build --keep-empty-dirs --no-resave-data ASEB StartedAt: 2025-11-13 16:14:03 -0500 (Thu, 13 Nov 2025) EndedAt: 2025-11-13 16:14:17 -0500 (Thu, 13 Nov 2025) EllapsedTime: 14.0 seconds RetCode: 0 Status: OK PackageFile: ASEB_1.55.0.tar.gz PackageFileSize: 602.9 KiB