Package: ASEB Version: 1.55.0 Command: /Library/Frameworks/R.framework/Resources/bin/R CMD INSTALL ASEB StartedAt: 2025-11-14 15:02:02 -0500 (Fri, 14 Nov 2025) EndedAt: 2025-11-14 15:02:06 -0500 (Fri, 14 Nov 2025) EllapsedTime: 3.9 seconds RetCode: 0 Status: OK