Package: ASEB Version: 1.55.0 Command: /Library/Frameworks/R.framework/Resources/bin/R CMD build --keep-empty-dirs --no-resave-data ASEB StartedAt: 2025-11-13 15:42:04 -0500 (Thu, 13 Nov 2025) EndedAt: 2025-11-13 15:42:11 -0500 (Thu, 13 Nov 2025) EllapsedTime: 7.1 seconds RetCode: 0 Status: OK PackageFile: ASEB_1.55.0.tar.gz PackageFileSize: 603.1 KiB