Package: ASEB Version: 1.55.0 Command: rm -rf ASEB.buildbin-libdir && mkdir ASEB.buildbin-libdir && /Users/biocbuild/BBS/utils/build-universal.sh ASEB_1.55.0.tar.gz /Library/Frameworks/R.framework/Resources/bin/R ASEB.buildbin-libdir StartedAt: 2025-11-14 23:22:54 -0500 (Fri, 14 Nov 2025) EndedAt: 2025-11-14 23:22:59 -0500 (Fri, 14 Nov 2025) EllapsedTime: 5.1 seconds RetCode: 0 Status: OK PackageFile: ASEB_1.55.0.tgz PackageFileSize: 778.7 KiB