Package: ASEB Version: 1.55.0 Maintainer: Likun Wang MaintainerEmail: wanglk at hsc.pku.edu.cn git_url: https://git.bioconductor.org/packages/ASEB git_branch: devel git_last_commit: 193569c git_last_commit_date: 2025-10-29 10:09:49 -0500 (Wed, 29 Oct 2025)