Package: ASAFE Version: 1.37.0 Command: /home/biocbuild/bbs-3.23-bioc/R/bin/R CMD INSTALL ASAFE StartedAt: 2025-11-14 15:03:03 -0500 (Fri, 14 Nov 2025) EndedAt: 2025-11-14 15:03:14 -0500 (Fri, 14 Nov 2025) EllapsedTime: 10.6 seconds RetCode: 0 Status: OK