Package: ASAFE Version: 1.37.0 Command: /Library/Frameworks/R.framework/Resources/bin/R CMD INSTALL ASAFE StartedAt: 2025-11-12 15:16:03 -0500 (Wed, 12 Nov 2025) EndedAt: 2025-11-12 15:16:07 -0500 (Wed, 12 Nov 2025) EllapsedTime: 4.0 seconds RetCode: 0 Status: OK