Package: ASAFE Version: 1.37.0 Command: /Library/Frameworks/R.framework/Resources/bin/R CMD build --keep-empty-dirs --no-resave-data ASAFE StartedAt: 2025-11-12 15:48:58 -0500 (Wed, 12 Nov 2025) EndedAt: 2025-11-12 15:49:02 -0500 (Wed, 12 Nov 2025) EllapsedTime: 4.0 seconds RetCode: 0 Status: OK PackageFile: ASAFE_1.37.0.tar.gz PackageFileSize: 425.2 KiB