Package: ASAFE Version: 1.37.0 Command: rm -rf ASAFE.buildbin-libdir && mkdir ASAFE.buildbin-libdir && /Users/biocbuild/BBS/utils/build-universal.sh ASAFE_1.37.0.tar.gz /Library/Frameworks/R.framework/Resources/bin/R ASAFE.buildbin-libdir StartedAt: 2025-11-12 20:51:12 -0500 (Wed, 12 Nov 2025) EndedAt: 2025-11-12 20:51:14 -0500 (Wed, 12 Nov 2025) EllapsedTime: 2.1 seconds RetCode: 0 Status: OK PackageFile: ASAFE_1.37.0.tgz PackageFileSize: 585.6 KiB