Package: ASAFE Version: 1.37.0 Maintainer: Qian Zhang MaintainerEmail: qszhang at uw.edu git_url: https://git.bioconductor.org/packages/ASAFE git_branch: devel git_last_commit: a3553d7 git_last_commit_date: 2025-10-29 10:33:19 -0500 (Wed, 29 Oct 2025)