Package: ARRmNormalization Version: 1.51.0 Command: /home/biocbuild/bbs-3.23-bioc/R/bin/R CMD build --keep-empty-dirs --no-resave-data ARRmNormalization StartedAt: 2025-11-13 16:13:46 -0500 (Thu, 13 Nov 2025) EndedAt: 2025-11-13 16:14:13 -0500 (Thu, 13 Nov 2025) EllapsedTime: 27.0 seconds RetCode: 0 Status: OK PackageFile: ARRmNormalization_1.51.0.tar.gz PackageFileSize: 1.076 MiB