Package: ARRmNormalization Version: 1.51.0 Command: /Library/Frameworks/R.framework/Resources/bin/R CMD INSTALL ARRmNormalization StartedAt: 2025-11-13 15:02:10 -0500 (Thu, 13 Nov 2025) EndedAt: 2025-11-13 15:02:17 -0500 (Thu, 13 Nov 2025) EllapsedTime: 6.5 seconds RetCode: 0 Status: OK