Package: ARRmNormalization Version: 1.51.0 Command: rm -rf ARRmNormalization.buildbin-libdir && mkdir ARRmNormalization.buildbin-libdir && /Users/biocbuild/BBS/utils/build-universal.sh ARRmNormalization_1.51.0.tar.gz /Library/Frameworks/R.framework/Resources/bin/R ARRmNormalization.buildbin-libdir StartedAt: 2025-11-13 23:27:48 -0500 (Thu, 13 Nov 2025) EndedAt: 2025-11-13 23:27:51 -0500 (Thu, 13 Nov 2025) EllapsedTime: 3.0 seconds RetCode: 0 Status: OK PackageFile: ARRmNormalization_1.51.0.tgz PackageFileSize: 1.112 MiB