Package: ARRmNormalization Version: 1.51.0 Maintainer: Jean-Philippe Fortin MaintainerEmail: jfortin at jhsph.edu git_url: https://git.bioconductor.org/packages/ARRmNormalization git_branch: devel git_last_commit: e189ad9 git_last_commit_date: 2025-10-29 10:13:53 -0500 (Wed, 29 Oct 2025)