Package: APL Version: 1.15.0 Command: /home/biocbuild/bbs-3.23-bioc/R/bin/R CMD build --keep-empty-dirs --no-resave-data APL StartedAt: 2025-11-14 16:13:19 -0500 (Fri, 14 Nov 2025) EndedAt: 2025-11-14 16:16:42 -0500 (Fri, 14 Nov 2025) EllapsedTime: 202.2 seconds RetCode: 0 Status: OK PackageFile: APL_1.15.0.tar.gz PackageFileSize: 2.326 MiB