Package: APL Version: 1.15.0 Command: /Library/Frameworks/R.framework/Resources/bin/R CMD INSTALL APL StartedAt: 2025-11-12 15:38:08 -0500 (Wed, 12 Nov 2025) EndedAt: 2025-11-12 15:38:24 -0500 (Wed, 12 Nov 2025) EllapsedTime: 15.8 seconds RetCode: 0 Status: OK