Package: APL Version: 1.15.0 Command: /Library/Frameworks/R.framework/Resources/bin/R CMD build --keep-empty-dirs --no-resave-data APL StartedAt: 2025-11-12 15:48:50 -0500 (Wed, 12 Nov 2025) EndedAt: 2025-11-12 15:49:10 -0500 (Wed, 12 Nov 2025) EllapsedTime: 20.3 seconds RetCode: 1 Status: ERROR PackageFile: None PackageFileSize: NA