Package: APL Version: 1.15.0 Maintainer: Clemens Kohl MaintainerEmail: kohl.clemens at gmail.com git_url: https://git.bioconductor.org/packages/APL git_branch: devel git_last_commit: daf6edd git_last_commit_date: 2025-10-29 11:17:02 -0500 (Wed, 29 Oct 2025)