Package: APAlyzer Version: 1.25.0 Command: /home/biocbuild/bbs-3.23-bioc/R/bin/R CMD INSTALL APAlyzer StartedAt: 2025-11-14 15:41:45 -0500 (Fri, 14 Nov 2025) EndedAt: 2025-11-14 15:42:28 -0500 (Fri, 14 Nov 2025) EllapsedTime: 42.4 seconds RetCode: 0 Status: OK