Package: APAlyzer Version: 1.25.0 Command: rm -rf APAlyzer.buildbin-libdir && mkdir APAlyzer.buildbin-libdir && /Users/biocbuild/BBS/utils/build-universal.sh APAlyzer_1.25.0.tar.gz /Library/Frameworks/R.framework/Resources/bin/R APAlyzer.buildbin-libdir StartedAt: 2025-11-12 20:51:06 -0500 (Wed, 12 Nov 2025) EndedAt: 2025-11-12 20:51:28 -0500 (Wed, 12 Nov 2025) EllapsedTime: 21.7 seconds RetCode: 0 Status: OK PackageFile: APAlyzer_1.25.0.tgz PackageFileSize: 4.047 MiB