Package: AMARETTO Version: 1.27.0 Command: /home/biocbuild/bbs-3.23-bioc/R/bin/R CMD INSTALL AMARETTO StartedAt: 2025-11-16 15:58:02 -0500 (Sun, 16 Nov 2025) EndedAt: 2025-11-16 15:58:37 -0500 (Sun, 16 Nov 2025) EllapsedTime: 35.1 seconds RetCode: 0 Status: OK