Package: AMARETTO Version: 1.27.0 Command: /home/biocbuild/bbs-3.23-bioc/R/bin/R CMD build --keep-empty-dirs --no-resave-data AMARETTO StartedAt: 2025-11-16 16:10:49 -0500 (Sun, 16 Nov 2025) EndedAt: 2025-11-16 16:11:43 -0500 (Sun, 16 Nov 2025) EllapsedTime: 54.1 seconds RetCode: 0 Status: OK PackageFile: AMARETTO_1.27.0.tar.gz PackageFileSize: 3.257 MiB