Package: AMARETTO Version: 1.27.0 Command: /Library/Frameworks/R.framework/Resources/bin/R CMD INSTALL AMARETTO StartedAt: 2025-11-13 15:33:01 -0500 (Thu, 13 Nov 2025) EndedAt: 2025-11-13 15:33:16 -0500 (Thu, 13 Nov 2025) EllapsedTime: 14.6 seconds RetCode: 0 Status: OK