Package: AMARETTO Version: 1.27.0 Command: /Library/Frameworks/R.framework/Resources/bin/R CMD build --keep-empty-dirs --no-resave-data AMARETTO StartedAt: 2025-11-13 15:39:57 -0500 (Thu, 13 Nov 2025) EndedAt: 2025-11-13 15:40:19 -0500 (Thu, 13 Nov 2025) EllapsedTime: 22.2 seconds RetCode: 0 Status: OK PackageFile: AMARETTO_1.27.0.tar.gz PackageFileSize: 3.228 MiB