Package: AMARETTO Version: 1.27.0 Command: rm -rf AMARETTO.buildbin-libdir && mkdir AMARETTO.buildbin-libdir && /Users/biocbuild/BBS/utils/build-universal.sh AMARETTO_1.27.0.tar.gz /Library/Frameworks/R.framework/Resources/bin/R AMARETTO.buildbin-libdir StartedAt: 2025-11-13 23:27:24 -0500 (Thu, 13 Nov 2025) EndedAt: 2025-11-13 23:27:42 -0500 (Thu, 13 Nov 2025) EllapsedTime: 18.4 seconds RetCode: 0 Status: OK PackageFile: AMARETTO_1.27.0.tgz PackageFileSize: 3.438 MiB