Package: ALDEx2 Version: 1.43.0 Command: /Library/Frameworks/R.framework/Resources/bin/R CMD INSTALL ALDEx2 StartedAt: 2025-11-12 15:24:30 -0500 (Wed, 12 Nov 2025) EndedAt: 2025-11-12 15:24:39 -0500 (Wed, 12 Nov 2025) EllapsedTime: 9.4 seconds RetCode: 0 Status: OK