Package: ALDEx2 Version: 1.43.0 Command: /Library/Frameworks/R.framework/Resources/bin/R CMD build --keep-empty-dirs --no-resave-data ALDEx2 StartedAt: 2025-11-12 15:47:39 -0500 (Wed, 12 Nov 2025) EndedAt: 2025-11-12 15:48:18 -0500 (Wed, 12 Nov 2025) EllapsedTime: 39.5 seconds RetCode: 0 Status: OK PackageFile: ALDEx2_1.43.0.tar.gz PackageFileSize: 3.096 MiB