Package: AIMS Version: 1.43.0 Command: /home/biocbuild/bbs-3.23-bioc/R/bin/R CMD INSTALL AIMS StartedAt: 2025-11-14 15:13:41 -0500 (Fri, 14 Nov 2025) EndedAt: 2025-11-14 15:13:44 -0500 (Fri, 14 Nov 2025) EllapsedTime: 2.6 seconds RetCode: 0 Status: OK