Package: AIMS Version: 1.43.0 Command: /Library/Frameworks/R.framework/Resources/bin/R CMD INSTALL AIMS StartedAt: 2025-11-13 15:07:02 -0500 (Thu, 13 Nov 2025) EndedAt: 2025-11-13 15:07:03 -0500 (Thu, 13 Nov 2025) EllapsedTime: 1.4 seconds RetCode: 0 Status: OK