Package: AIMS Version: 1.43.0 Command: /Library/Frameworks/R.framework/Resources/bin/R CMD build --keep-empty-dirs --no-resave-data AIMS StartedAt: 2025-11-13 15:39:12 -0500 (Thu, 13 Nov 2025) EndedAt: 2025-11-13 15:39:20 -0500 (Thu, 13 Nov 2025) EllapsedTime: 8.1 seconds RetCode: 0 Status: OK PackageFile: AIMS_1.43.0.tar.gz PackageFileSize: 484.5 KiB