Package: AIMS Version: 1.43.0 Command: rm -rf AIMS.buildbin-libdir && mkdir AIMS.buildbin-libdir && /Users/biocbuild/BBS/utils/build-universal.sh AIMS_1.43.0.tar.gz /Library/Frameworks/R.framework/Resources/bin/R AIMS.buildbin-libdir StartedAt: 2025-11-14 23:22:04 -0500 (Fri, 14 Nov 2025) EndedAt: 2025-11-14 23:22:06 -0500 (Fri, 14 Nov 2025) EllapsedTime: 2.0 seconds RetCode: 0 Status: OK PackageFile: AIMS_1.43.0.tgz PackageFileSize: 501.7 KiB