Package: AIMS Version: 1.43.0 Maintainer: Eric R Paquet MaintainerEmail: eric.r.paquet at gmail.com git_url: https://git.bioconductor.org/packages/AIMS git_branch: devel git_last_commit: 50f1469 git_last_commit_date: 2025-10-29 10:23:05 -0500 (Wed, 29 Oct 2025)