Package: ADaCGH2 Version: 2.51.0 Command: /home/biocbuild/bbs-3.23-bioc/R/bin/R CMD INSTALL ADaCGH2 StartedAt: 2025-11-13 15:57:19 -0500 (Thu, 13 Nov 2025) EndedAt: 2025-11-13 15:57:44 -0500 (Thu, 13 Nov 2025) EllapsedTime: 25.2 seconds RetCode: 0 Status: OK