Package: ADaCGH2 Version: 2.51.0 Command: /home/biocbuild/bbs-3.23-bioc/R/bin/R CMD build --keep-empty-dirs --no-resave-data ADaCGH2 StartedAt: 2025-11-13 16:07:45 -0500 (Thu, 13 Nov 2025) EndedAt: 2025-11-13 16:09:33 -0500 (Thu, 13 Nov 2025) EllapsedTime: 108.2 seconds RetCode: 0 Status: OK PackageFile: ADaCGH2_2.51.0.tar.gz PackageFileSize: 1.172 MiB