Package: ADaCGH2 Version: 2.51.0 Command: /Library/Frameworks/R.framework/Resources/bin/R CMD build --keep-empty-dirs --no-resave-data ADaCGH2 StartedAt: 2025-11-13 15:38:30 -0500 (Thu, 13 Nov 2025) EndedAt: 2025-11-13 15:39:18 -0500 (Thu, 13 Nov 2025) EllapsedTime: 48.6 seconds RetCode: 0 Status: OK PackageFile: ADaCGH2_2.51.0.tar.gz PackageFileSize: 1.172 MiB