Package: ADaCGH2 Version: 2.51.0 Command: rm -rf ADaCGH2.buildbin-libdir && mkdir ADaCGH2.buildbin-libdir && /Users/biocbuild/BBS/utils/build-universal.sh ADaCGH2_2.51.0.tar.gz /Library/Frameworks/R.framework/Resources/bin/R ADaCGH2.buildbin-libdir StartedAt: 2025-11-13 23:26:47 -0500 (Thu, 13 Nov 2025) EndedAt: 2025-11-13 23:27:00 -0500 (Thu, 13 Nov 2025) EllapsedTime: 13.3 seconds RetCode: 0 Status: OK PackageFile: ADaCGH2_2.51.0.tgz PackageFileSize: 1.293 MiB