Package: ADaCGH2 Version: 2.51.0 Maintainer: Ramon Diaz-Uriarte MaintainerEmail: rdiaz02 at gmail.com git_url: https://git.bioconductor.org/packages/ADaCGH2 git_branch: devel git_last_commit: 90648f4 git_last_commit_date: 2025-10-29 10:06:05 -0500 (Wed, 29 Oct 2025)