Package: ADAPT Version: 1.5.0 Command: /home/biocbuild/bbs-3.23-bioc/R/bin/R CMD build --keep-empty-dirs --no-resave-data ADAPT StartedAt: 2025-11-16 16:08:11 -0500 (Sun, 16 Nov 2025) EndedAt: 2025-11-16 16:09:07 -0500 (Sun, 16 Nov 2025) EllapsedTime: 56.1 seconds RetCode: 0 Status: OK PackageFile: ADAPT_1.5.0.tar.gz PackageFileSize: 385 KiB