Package: ADAPT Version: 1.5.0 Command: /Library/Frameworks/R.framework/Resources/bin/R CMD INSTALL ADAPT StartedAt: 2025-11-13 15:08:36 -0500 (Thu, 13 Nov 2025) EndedAt: 2025-11-13 15:08:42 -0500 (Thu, 13 Nov 2025) EllapsedTime: 6.5 seconds RetCode: 1 Status: ERROR