Package: ADAPT Version: 1.5.0 Maintainer: Mukai Wang MaintainerEmail: wangmk at umich.edu git_url: https://git.bioconductor.org/packages/ADAPT git_branch: devel git_last_commit: f78af6b git_last_commit_date: 2025-10-29 11:32:05 -0500 (Wed, 29 Oct 2025)