Package: ADAMgui Version: 1.27.0 Command: /home/biocbuild/bbs-3.23-bioc/R/bin/R CMD INSTALL ADAMgui StartedAt: 2025-11-11 15:46:21 -0500 (Tue, 11 Nov 2025) EndedAt: 2025-11-11 15:46:50 -0500 (Tue, 11 Nov 2025) EllapsedTime: 29.1 seconds RetCode: 0 Status: OK