Package: ADAMgui Version: 1.27.0 Command: /home/biocbuild/bbs-3.23-bioc/R/bin/R CMD build --keep-empty-dirs --no-resave-data ADAMgui StartedAt: 2025-11-13 16:07:46 -0500 (Thu, 13 Nov 2025) EndedAt: 2025-11-13 16:08:25 -0500 (Thu, 13 Nov 2025) EllapsedTime: 39.1 seconds RetCode: 0 Status: OK PackageFile: ADAMgui_1.27.0.tar.gz PackageFileSize: 1.746 MiB