Package: ADAMgui Version: 1.27.0 Command: /Library/Frameworks/R.framework/Resources/bin/R CMD INSTALL ADAMgui StartedAt: 2025-11-13 15:26:48 -0500 (Thu, 13 Nov 2025) EndedAt: 2025-11-13 15:27:00 -0500 (Thu, 13 Nov 2025) EllapsedTime: 12.1 seconds RetCode: 0 Status: OK