Package: ADAMgui Version: 1.27.0 Command: rm -rf ADAMgui.buildbin-libdir && mkdir ADAMgui.buildbin-libdir && /Users/biocbuild/BBS/utils/build-universal.sh ADAMgui_1.27.0.tar.gz /Library/Frameworks/R.framework/Resources/bin/R ADAMgui.buildbin-libdir StartedAt: 2025-11-13 23:26:49 -0500 (Thu, 13 Nov 2025) EndedAt: 2025-11-13 23:27:03 -0500 (Thu, 13 Nov 2025) EllapsedTime: 14.4 seconds RetCode: 0 Status: OK PackageFile: ADAMgui_1.27.0.tgz PackageFileSize: 919.9 KiB